BEGIN:VCALENDAR
VERSION:2.0
PRODID:-//MOMO Academy of Drama - ECPv6.7.0//NONSGML v1.0//EN
CALSCALE:GREGORIAN
METHOD:PUBLISH
X-WR-CALNAME:MOMO Academy of Drama
X-ORIGINAL-URL:https://momoacademy.co.uk
X-WR-CALDESC:Events for MOMO Academy of Drama
REFRESH-INTERVAL;VALUE=DURATION:PT1H
X-Robots-Tag:noindex
X-PUBLISHED-TTL:PT1H
BEGIN:VTIMEZONE
TZID:Europe/London
BEGIN:DAYLIGHT
TZOFFSETFROM:+0000
TZOFFSETTO:+0100
TZNAME:BST
DTSTART:20250330T010000
END:DAYLIGHT
BEGIN:STANDARD
TZOFFSETFROM:+0100
TZOFFSETTO:+0000
TZNAME:GMT
DTSTART:20251026T010000
END:STANDARD
END:VTIMEZONE
BEGIN:VEVENT
DTSTART;TZID=Europe/London:20250216T080000
DTEND;TZID=Europe/London:20250223T170000
DTSTAMP:20260421T160600
CREATED:20250208T175325Z
LAST-MODIFIED:20250208T175325Z
UID:1196-1739692800-1740330000@momoacademy.co.uk
SUMMARY:Feb half term - all classes
DESCRIPTION:
URL:https://momoacademy.co.uk/event/feb-half-term-all-classes/
END:VEVENT
BEGIN:VEVENT
DTSTART;TZID=Europe/London:20250219T160000
DTEND;TZID=Europe/London:20250219T210000
DTSTAMP:20260421T160600
CREATED:20250208T175836Z
LAST-MODIFIED:20250208T175836Z
UID:1206-1739980800-1739998800@momoacademy.co.uk
SUMMARY:Six Dress Rehearsals
DESCRIPTION:
URL:https://momoacademy.co.uk/event/six-dress-rehearsals/
LOCATION:Springhill Academy\, Mossbank Ave\, Burntwood\, Staffordshire\, WS7 4UN\, United Kingdom
END:VEVENT
BEGIN:VEVENT
DTSTART;TZID=Europe/London:20250224T080000
DTEND;TZID=Europe/London:20250224T170000
DTSTAMP:20260421T160600
CREATED:20250208T175415Z
LAST-MODIFIED:20250208T175415Z
UID:1198-1740384000-1740416400@momoacademy.co.uk
SUMMARY:Spring term 2 begins - all classes
DESCRIPTION:
URL:https://momoacademy.co.uk/event/spring-term-2-begins-all-classes/
END:VEVENT
BEGIN:VEVENT
DTSTART;TZID=Europe/London:20250226T080000
DTEND;TZID=Europe/London:20250301T170000
DTSTAMP:20260421T160600
CREATED:20250208T175927Z
LAST-MODIFIED:20250208T175927Z
UID:1208-1740556800-1740848400@momoacademy.co.uk
SUMMARY:SIX SHOW WEEK - please refer to letter sent out for times / venue
DESCRIPTION:
URL:https://momoacademy.co.uk/event/six-show-week-please-refer-to-letter-sent-out-for-times-venue/
END:VEVENT
END:VCALENDAR