BEGIN:VCALENDAR
VERSION:2.0
PRODID:-//MOMO Academy of Drama - ECPv6.7.0//NONSGML v1.0//EN
CALSCALE:GREGORIAN
METHOD:PUBLISH
X-WR-CALNAME:MOMO Academy of Drama
X-ORIGINAL-URL:https://momoacademy.co.uk
X-WR-CALDESC:Events for MOMO Academy of Drama
REFRESH-INTERVAL;VALUE=DURATION:PT1H
X-Robots-Tag:noindex
X-PUBLISHED-TTL:PT1H
BEGIN:VTIMEZONE
TZID:Europe/London
BEGIN:DAYLIGHT
TZOFFSETFROM:+0000
TZOFFSETTO:+0100
TZNAME:BST
DTSTART:20220327T010000
END:DAYLIGHT
BEGIN:STANDARD
TZOFFSETFROM:+0100
TZOFFSETTO:+0000
TZNAME:GMT
DTSTART:20221030T010000
END:STANDARD
END:VTIMEZONE
BEGIN:VEVENT
DTSTART;TZID=Europe/London:20220913T170000
DTEND;TZID=Europe/London:20220913T180000
DTSTAMP:20260422T005052
CREATED:20220827T124401Z
LAST-MODIFIED:20220827T124401Z
UID:664-1663088400-1663092000@momoacademy.co.uk
SUMMARY:New Term starts Stafford
DESCRIPTION:
URL:https://momoacademy.co.uk/event/new-term-starts-stafford/
LOCATION:Baswich Hall\, Baswich Lane\, Stafford.\, Staffordshire\, ST17 0BY\, United Kingdom
END:VEVENT
BEGIN:VEVENT
DTSTART;TZID=Europe/London:20220912T173000
DTEND;TZID=Europe/London:20220912T200000
DTSTAMP:20260422T005052
CREATED:20220827T123901Z
LAST-MODIFIED:20220827T123901Z
UID:662-1663003800-1663012800@momoacademy.co.uk
SUMMARY:New term Burntwood Mon
DESCRIPTION:
URL:https://momoacademy.co.uk/event/new-term-burntwood-mon/
LOCATION:Springhill Academy\, Mossbank Ave\, Burntwood\, Staffordshire\, WS7 4UN\, United Kingdom
END:VEVENT
BEGIN:VEVENT
DTSTART;TZID=Europe/London:20220910T100000
DTEND;TZID=Europe/London:20220910T110000
DTSTAMP:20260422T005052
CREATED:20220827T115056Z
LAST-MODIFIED:20220827T115056Z
UID:658-1662804000-1662807600@momoacademy.co.uk
SUMMARY:New term starts Burntwood Sat
DESCRIPTION:
URL:https://momoacademy.co.uk/event/new-term-starts-burntwood-sat/
LOCATION:Springhill Academy\, Mossbank Ave\, Burntwood\, Staffordshire\, WS7 4UN\, United Kingdom
END:VEVENT
END:VCALENDAR