BEGIN:VCALENDAR
VERSION:2.0
PRODID:-//MOMO Academy of Drama - ECPv6.7.0//NONSGML v1.0//EN
CALSCALE:GREGORIAN
METHOD:PUBLISH
X-ORIGINAL-URL:https://momoacademy.co.uk
X-WR-CALDESC:Events for MOMO Academy of Drama
REFRESH-INTERVAL;VALUE=DURATION:PT1H
X-Robots-Tag:noindex
X-PUBLISHED-TTL:PT1H
BEGIN:VTIMEZONE
TZID:Europe/London
BEGIN:DAYLIGHT
TZOFFSETFROM:+0000
TZOFFSETTO:+0100
TZNAME:BST
DTSTART:20250330T010000
END:DAYLIGHT
BEGIN:STANDARD
TZOFFSETFROM:+0100
TZOFFSETTO:+0000
TZNAME:GMT
DTSTART:20251026T010000
END:STANDARD
END:VTIMEZONE
BEGIN:VEVENT
DTSTART;TZID=Europe/London:20250511T140000
DTEND;TZID=Europe/London:20250511T153000
DTSTAMP:20260421T124605
CREATED:20240925T125208Z
LAST-MODIFIED:20240928T173329Z
UID:1113-1746972000-1746977400@momoacademy.co.uk
SUMMARY:Junior Charity Showcase 2025
DESCRIPTION:A wonderful showcase where students show their amazing hard work and exam pieces over the last year. \nWe raise money for local charities and worth while causes too! \nTickets are limited and will be released in March 2025 \nALL students are invited to perform!
URL:https://momoacademy.co.uk/event/junior-charity-showcase-2025/
LOCATION:Burntwood Institute\, Rugeley Road\, Staffs\, Burntwood\, WS7 9BE\, United Kingdom
ORGANIZER;CN="MOMO Academy of Drama":MAILTO:contact@momoacademy.co.uk
END:VEVENT
BEGIN:VEVENT
DTSTART;TZID=Europe/London:20250511T183000
DTEND;TZID=Europe/London:20250511T200000
DTSTAMP:20260421T124605
CREATED:20240925T125821Z
LAST-MODIFIED:20240928T173301Z
UID:1115-1746988200-1746993600@momoacademy.co.uk
SUMMARY:Senior Charity showcase 2025
DESCRIPTION:A wonderful showcase where students show their amazing hard work and exam pieces over the last year. \nWe raise money for local charities and worth while causes too! \nTickets are limited and will be released in March 2025ALL students are invited to perform and will be needed for the afternoon for rehearsal.
URL:https://momoacademy.co.uk/event/senior-charity-showcase-2025/
LOCATION:Burntwood Institute\, Rugeley Road\, Staffs\, Burntwood\, WS7 9BE\, United Kingdom
END:VEVENT
END:VCALENDAR