BEGIN:VCALENDAR
VERSION:2.0
PRODID:-//MOMO Academy of Drama - ECPv6.7.0//NONSGML v1.0//EN
CALSCALE:GREGORIAN
METHOD:PUBLISH
X-ORIGINAL-URL:https://momoacademy.co.uk
X-WR-CALDESC:Events for MOMO Academy of Drama
REFRESH-INTERVAL;VALUE=DURATION:PT1H
X-Robots-Tag:noindex
X-PUBLISHED-TTL:PT1H
BEGIN:VTIMEZONE
TZID:Europe/London
BEGIN:DAYLIGHT
TZOFFSETFROM:+0000
TZOFFSETTO:+0100
TZNAME:BST
DTSTART:20250330T010000
END:DAYLIGHT
BEGIN:STANDARD
TZOFFSETFROM:+0100
TZOFFSETTO:+0000
TZNAME:GMT
DTSTART:20251026T010000
END:STANDARD
END:VTIMEZONE
BEGIN:VEVENT
DTSTART;TZID=Europe/London:20250426T080000
DTEND;TZID=Europe/London:20250426T170000
DTSTAMP:20260421T142419
CREATED:20250220T204725Z
LAST-MODIFIED:20250220T204725Z
UID:1212-1745654400-1745686800@momoacademy.co.uk
SUMMARY:Summer Term begins
DESCRIPTION:
URL:https://momoacademy.co.uk/event/summer-term-begins-2/
END:VEVENT
END:VCALENDAR