BEGIN:VCALENDAR
VERSION:2.0
PRODID:-//MOMO Academy of Drama - ECPv6.7.0//NONSGML v1.0//EN
CALSCALE:GREGORIAN
METHOD:PUBLISH
X-WR-CALNAME:MOMO Academy of Drama
X-ORIGINAL-URL:https://momoacademy.co.uk
X-WR-CALDESC:Events for MOMO Academy of Drama
REFRESH-INTERVAL;VALUE=DURATION:PT1H
X-Robots-Tag:noindex
X-PUBLISHED-TTL:PT1H
BEGIN:VTIMEZONE
TZID:Europe/London
BEGIN:DAYLIGHT
TZOFFSETFROM:+0000
TZOFFSETTO:+0100
TZNAME:BST
DTSTART:20250330T010000
END:DAYLIGHT
BEGIN:STANDARD
TZOFFSETFROM:+0100
TZOFFSETTO:+0000
TZNAME:GMT
DTSTART:20251026T010000
END:STANDARD
END:VTIMEZONE
BEGIN:VEVENT
DTSTART;TZID=Europe/London:20250226T080000
DTEND;TZID=Europe/London:20250301T170000
DTSTAMP:20260421T160513
CREATED:20250208T175927Z
LAST-MODIFIED:20250208T175927Z
UID:1208-1740556800-1740848400@momoacademy.co.uk
SUMMARY:SIX SHOW WEEK - please refer to letter sent out for times / venue
DESCRIPTION:
URL:https://momoacademy.co.uk/event/six-show-week-please-refer-to-letter-sent-out-for-times-venue/
END:VEVENT
BEGIN:VEVENT
DTSTART;VALUE=DATE:20250301
DTEND;VALUE=DATE:20250302
DTSTAMP:20260421T160513
CREATED:20241121T200544Z
LAST-MODIFIED:20241121T200544Z
UID:1186-1740787200-1740873599@momoacademy.co.uk
SUMMARY:SIX Teen Musical
DESCRIPTION:Divorced\, beheaded\, died\, divorced\, beheaded\, survived. \nMomo Academy of drama is back\, following the success of Frozen Jr\, The Little Mermaid Jr\, Wizard of Oz youth edition and more for a new production of the global sensation that everyone is losing their head over. \nFrom Tudor Queens to Pop Icons\, the SIX wives of Henry VIII take the mic to remix five hundred years of historical heartbreak into a Euphoric Celebration of 21st-century girl power! \nWitness the passion\, skill\, and dedication of our seniors\, as they take you on a musical journey like no other – from show-stopping solos to breath-taking ensemble numbers\, their performances will leave you amazed and inspired. \nImmerse yourself in a world of vibrant colours and dazzling costumes that will transport you straight into the heart of the Tudor era. With a fusion of contemporary flair and historical intrigue\, Six: Teen Edition promises an exhilarating experience that will have you singing along and dancing in your seat! \nSIX: TEEN EDITION is a full-length adaptation of Toby Marlow and Lucy Moss’ international phenomenon SIX\, modified for performance by teen actors for family audiences. \nThis amateur production of SIX: TEEN EDITION is presented by special arrangement with Concord Theatricals.
URL:https://momoacademy.co.uk/event/six-teen-musical/
LOCATION:Rugeley Rose Theatre\, Taylors Lane Rugeley\, Staffordshire\, WS15 2AA
ORGANIZER;CN="MOMO Academy of Drama":MAILTO:contact@momoacademy.co.uk
END:VEVENT
BEGIN:VEVENT
DTSTART;TZID=Europe/London:20250301T080000
DTEND;TZID=Europe/London:20250301T170000
DTSTAMP:20260421T160513
CREATED:20250301T091158Z
LAST-MODIFIED:20250301T091158Z
UID:1216-1740816000-1740848400@momoacademy.co.uk
SUMMARY:NO SATURDAY CLASS
DESCRIPTION:SIX performance – no classes today
URL:https://momoacademy.co.uk/event/no-saturday-class/
END:VEVENT
END:VCALENDAR